BEGIN:VCALENDAR
PRODID:-//AT Content Types//AT Event//EN
VERSION:1.0
BEGIN:VEVENT
DTSTART:20251212T230000Z
DTEND:20251212T230000Z
DCREATED:20251113T113115Z
UID:ATEvent-76c6bb49b5644900bd27a162ad65d4d2
SEQUENCE:0
LAST-MODIFIED:20251113T154013Z
SUMMARY:Jubilee pilgrimage of the Province of Luzitaniantes
DESCRIPTION:organisé par le sanctuaire de Fátima
LOCATION:Santuario de Nuestra Señora de Fátima\, Portugal
PRIORITY:3
TRANSP:0
END:VEVENT
END:VCALENDAR
