BEGIN:VCALENDAR
PRODID:-//AT Content Types//AT Event//EN
VERSION:1.0
BEGIN:VEVENT
DTSTART:20260529T220000Z
DTEND:20260529T220000Z
DCREATED:20251125T153415Z
UID:ATEvent-1b6a17d1a8154aed8696d071ff889edf
SEQUENCE:0
LAST-MODIFIED:20251125T153715Z
SUMMARY:Peregrinación provincial\, Polonia
DESCRIPTION:Para la provincia del sur de Polonia
LOCATION:Santuario de Nuestra Señora de La Salette\, 38-220 Dębowiec 55.
PRIORITY:3
TRANSP:0
END:VEVENT
END:VCALENDAR
