BEGIN:VCALENDAR
PRODID:-//AT Content Types//AT Event//EN
VERSION:2.0
METHOD:PUBLISH
BEGIN:VEVENT
DTSTAMP:20260421T144157Z
CREATED:20240520T123854Z
UID:ATEvent-7675dd390e9a4d4e971abb36a1da3424
LAST-MODIFIED:20240529T082519Z
SUMMARY:Retiro anual en Ohio
DTSTART:20240620T220000Z
DTEND:20240622T220000Z
DESCRIPTION:Se celebra un retiro anual en el Centro Loyola
LOCATION:Ohio\, Estados Unidos Este
CONTACT:beckihaller@aol.com
CLASS:PUBLIC
END:VEVENT
END:VCALENDAR
