BEGIN:VCALENDAR
PRODID:-//AT Content Types//AT Event//EN
VERSION:2.0
METHOD:PUBLISH
BEGIN:VEVENT
DTSTAMP:20260421T144512Z
CREATED:20251124T160109Z
UID:ATEvent-205be1c960144a4694cb9fa137ac9a3c
LAST-MODIFIED:20260130T103054Z
SUMMARY:Retiro comunitario (Retiro de las comunidades Fe y Luz) de Estados Unidos
DTSTART:20260618T220000Z
DTEND:20260619T220000Z
DESCRIPTION:Para la provincia Fe y Luz EE. UU. Este
LOCATION:Centro de retiro Loyola\, Akron\, Ohio
CLASS:PUBLIC
END:VEVENT
END:VCALENDAR
