BEGIN:VCALENDAR
PRODID:-//AT Content Types//AT Event//EN
VERSION:1.0
BEGIN:VEVENT
DTSTART:20251204T230000Z
DTEND:20251206T230000Z
DCREATED:20251106T110107Z
UID:ATEvent-cca4fe4a68a34b88bf051116b3d7f65f
SEQUENCE:0
LAST-MODIFIED:20251106T131352Z
SUMMARY:Retiro de Adviento en Lituania
LOCATION:Vilnius\, Lituania
PRIORITY:3
TRANSP:0
END:VEVENT
END:VCALENDAR
