BEGIN:VCALENDAR
PRODID:-//AT Content Types//AT Event//EN
VERSION:1.0
BEGIN:VEVENT
DTSTART:20231101T230000Z
DTEND:20231104T230000Z
DCREATED:20230920T093917Z
UID:ATEvent-7395a32063b74beda2255b4f20e403f8
SEQUENCE:0
LAST-MODIFIED:20230920T100544Z
SUMMARY:Retiro de la provincia Francia Este
DESCRIPTION:Tema : Laudato Si!
LOCATION:Saint Jean de Bassel\, Francia
PRIORITY:3
TRANSP:0
END:VEVENT
END:VCALENDAR
