BEGIN:VCALENDAR
PRODID:-//AT Content Types//AT Event//EN
VERSION:1.0
BEGIN:VEVENT
DTSTART:20261009T220000Z
DTEND:20261009T220000Z
DCREATED:20251128T083547Z
UID:ATEvent-3f501cc88187490491fd98f0b372e0af
SEQUENCE:0
LAST-MODIFIED:20260129T162117Z
SUMMARY:Retiro espiritual para coordinadores y equipos de coordinación
DESCRIPTION:Para las comunidades del este de Canadá
LOCATION:Catedral de San Marón\, Montreal
PRIORITY:3
TRANSP:0
END:VEVENT
END:VCALENDAR
