BEGIN:VCALENDAR
PRODID:-//AT Content Types//AT Event//EN
VERSION:1.0
BEGIN:VEVENT
DTSTART:20260604T220000Z
DTEND:20260606T220000Z
DCREATED:20251117T103111Z
UID:ATEvent-c565e0c73d634059aae61b407ef92f53
SEQUENCE:0
LAST-MODIFIED:20251117T103313Z
SUMMARY:Retiro para padres\, Ucrania
DESCRIPTION:Formación para familias con algún miembro con discapacid
 ad \nPara todas las comunidades ucranianas
LOCATION:Ucrania\, lugar exacto por confirmar
PRIORITY:3
TRANSP:0
END:VEVENT
END:VCALENDAR
