BEGIN:VCALENDAR
PRODID:-//AT Content Types//AT Event//EN
VERSION:1.0
BEGIN:VEVENT
DTSTART:20260622T220000Z
DTEND:20260622T220000Z
DCREATED:20260105T105924Z
UID:ATEvent-686df25b31b94e36b6423660f0afe726
SEQUENCE:0
LAST-MODIFIED:20260105T110210Z
SUMMARY:Reunión de tesoreros
DESCRIPTION:Provincia Iberatlantica
LOCATION:En linéa\, 19h
PRIORITY:3
TRANSP:0
END:VEVENT
END:VCALENDAR
