BEGIN:VCALENDAR
PRODID:-//AT Content Types//AT Event//EN
VERSION:1.0
BEGIN:VEVENT
DTSTART:20260922T220000Z
DTEND:20260922T220000Z
DCREATED:20251125T161224Z
UID:ATEvent-9d77f9e6316649b697ab8ea1dd7d029b
SEQUENCE:0
LAST-MODIFIED:20251125T161257Z
SUMMARY:Reunión del Consejo Provincial\, Polonia
DESCRIPTION:Para la provincia del sur de Polonia
LOCATION:En línea\, 20:00 h
PRIORITY:3
TRANSP:0
END:VEVENT
END:VCALENDAR
