BEGIN:VCALENDAR
PRODID:-//AT Content Types//AT Event//EN
VERSION:1.0
BEGIN:VEVENT
DTSTART:20240404T220000Z
DTEND:20240406T220000Z
DCREATED:20240130T150339Z
UID:ATEvent-4878d7e03a8f43dfbcda4d056d720b52
SEQUENCE:0
LAST-MODIFIED:20240130T150525Z
SUMMARY:Reunión del equipo provincial de los Faros de Luz (Reino Unido - Irlanda del Norte)
LOCATION:The Briery\, Ilkley\, North Yorkshire
PRIORITY:3
TRANSP:0
END:VEVENT
END:VCALENDAR
