BEGIN:VCALENDAR
PRODID:-//AT Content Types//AT Event//EN
VERSION:2.0
METHOD:PUBLISH
BEGIN:VEVENT
DTSTAMP:20260422T103128Z
CREATED:20220421T081750Z
UID:ATEvent-174f4c06c7784eeaa555a667e84a61fe
LAST-MODIFIED:20220421T081811Z
SUMMARY:Reunión del equipo provincial de Luzitana
DTSTART:20220603T220000Z
DTEND:20220603T220000Z
LOCATION:Folgosa et S. Pedro de Fins
CLASS:PUBLIC
END:VEVENT
END:VCALENDAR
