BEGIN:VCALENDAR
PRODID:-//AT Content Types//AT Event//EN
VERSION:2.0
METHOD:PUBLISH
BEGIN:VEVENT
DTSTAMP:20260422T031616Z
CREATED:20251124T145908Z
UID:ATEvent-7901270e1a454f399dc52ad79730db2b
LAST-MODIFIED:20251124T152434Z
SUMMARY:Reunión del equipo provincial\, Espana
DTSTART:20260108T093000Z
DTEND:20260108T113000Z
DESCRIPTION:Reflexión conjunta sobre el acompañamiento espiritual en
  Fe y Luz
LOCATION:En línea
CLASS:PUBLIC
END:VEVENT
END:VCALENDAR
