BEGIN:VCALENDAR
PRODID:-//AT Content Types//AT Event//EN
VERSION:2.0
METHOD:PUBLISH
BEGIN:VEVENT
DTSTAMP:20260421T162853Z
CREATED:20251201T110855Z
UID:ATEvent-8c4a2194852f41c3aed43228c8c76886
LAST-MODIFIED:20251201T110953Z
SUMMARY:Reunión internacional para personas con discapacidad (Bosnia y Herzegovina)
DTSTART:20260527T220000Z
DTEND:20260530T220000Z
DESCRIPTION:Participación de al menos dos comunidades Fe y Luz de Osi
 jek (Provincia de Croacia)
LOCATION:Međugorje (Bosnia y Herzegovina)
CLASS:PUBLIC
END:VEVENT
END:VCALENDAR
