BEGIN:VCALENDAR
PRODID:-//AT Content Types//AT Event//EN
VERSION:1.0
BEGIN:VEVENT
DTSTART:20260625T220000Z
DTEND:20260627T220000Z
DCREATED:20251125T154930Z
UID:ATEvent-c0596d2d3e804f37a07f55581f7a82a0
SEQUENCE:0
LAST-MODIFIED:20251127T100453Z
SUMMARY:Reunión interprovincial\, Polonia
DESCRIPTION:Participación de la delegación de la provincia de Poloni
 a Sur
LOCATION:Pelplin\, Polonia
PRIORITY:3
TRANSP:0
END:VEVENT
END:VCALENDAR
