BEGIN:VCALENDAR
PRODID:-//AT Content Types//AT Event//EN
VERSION:2.0
METHOD:PUBLISH
BEGIN:VEVENT
DTSTAMP:20260421T165635Z
CREATED:20251125T160016Z
UID:ATEvent-0359d097bf35478d85447f98916d95ba
LAST-MODIFIED:20260130T103323Z
SUMMARY:Reunión provincial de coordinadores de comunidades \, Polonia
DTSTART:20260924T220000Z
DTEND:20260926T220000Z
DESCRIPTION:Para la provincia del sur de Polonia
LOCATION:Para la provincia Polonia Sur Lugar de acogida de las hermanas Serafinas en Hałcnów\, ul. 18 S. Małgorzaty Szewczyk\, 43-344 Bielsko-Biała\, Polonia
CLASS:PUBLIC
END:VEVENT
END:VCALENDAR
