BEGIN:VCALENDAR
PRODID:-//AT Content Types//AT Event//EN
VERSION:1.0
BEGIN:VEVENT
DTSTART:20230527T080000Z
DTEND:20230527T080000Z
DCREATED:20230209T094043Z
UID:ATEvent-6aa4f51458aa4d09a9655b6de32206e1
SEQUENCE:0
LAST-MODIFIED:20230209T094506Z
SUMMARY:Reunion provincial USA Este
DESCRIPTION:Reunión en Zoom el último sábado de cada mes para mante
 ner el contacto. Canciones\, lecturas del Evangelio\, tiempo de compar
 tir y oración...
LOCATION:Zoom
PRIORITY:3
TRANSP:0
END:VEVENT
END:VCALENDAR
