BEGIN:VCALENDAR
PRODID:-//AT Content Types//AT Event//EN
VERSION:2.0
METHOD:PUBLISH
BEGIN:VEVENT
DTSTAMP:20260422T090109Z
CREATED:20251125T143638Z
UID:ATEvent-8cd2cd8c40374a82af0a0bc4db372846
LAST-MODIFIED:20260105T104738Z
SUMMARY:Reunión sobre finanzas\, Provincia del Sur de Polonia
DTSTART:20260113T230000Z
DTEND:20260113T230000Z
DESCRIPTION:Para tesoreros y miembros de consejos comunitarios\nModera
 do por el tesorero provincial.
LOCATION:En línea\, 19:00 h
CLASS:PUBLIC
END:VEVENT
END:VCALENDAR
