BEGIN:VCALENDAR
PRODID:-//AT Content Types//AT Event//EN
VERSION:1.0
BEGIN:VEVENT
DTSTART:20230928T220000Z
DTEND:20230930T220000Z
DCREATED:20230126T110601Z
UID:ATEvent-3b5541d5ad3b4d4b8f70c08af63ee20a
SEQUENCE:0
LAST-MODIFIED:20230308T155303Z
SUMMARY:Sesion de formacion en Eslovenia
DESCRIPTION:Para los responsables de Fe y Luz a todos los niveles
LOCATION:Sticna\, Eslovenia
PRIORITY:3
TRANSP:0
END:VEVENT
END:VCALENDAR
