BEGIN:VCALENDAR
PRODID:-//AT Content Types//AT Event//EN
VERSION:2.0
METHOD:PUBLISH
BEGIN:VEVENT
DTSTAMP:20260420T133220Z
CREATED:20230203T143303Z
UID:ATEvent-c5556897b6b34452bee418fe1da228b6
LAST-MODIFIED:20230203T143309Z
SUMMARY:Sesion de formacion para los equipos de coordinacion de Belgica
DTSTART:20230601T220000Z
DTEND:20230603T220000Z
LOCATION:La Pairelle (Wépion)\, Belgica
CLASS:PUBLIC
END:VEVENT
END:VCALENDAR
