BEGIN:VCALENDAR
PRODID:-//AT Content Types//AT Event//EN
VERSION:1.0
BEGIN:VEVENT
DTSTART:20251119T230000Z
DTEND:20251122T230000Z
DCREATED:20250227T152355Z
UID:ATEvent-45ff620c6f1f410094fc4034914300a4
SEQUENCE:0
LAST-MODIFIED:20250227T152412Z
SUMMARY:Sesión de formación y encuentro de la provincia Renacer (Brasil)
LOCATION:Estado de Rio Grande do Norte
PRIORITY:3
TRANSP:0
END:VEVENT
END:VCALENDAR
