BEGIN:VCALENDAR
PRODID:-//AT Content Types//AT Event//EN
VERSION:1.0
BEGIN:VEVENT
DTSTART:20250213T230000Z
DTEND:20250215T230000Z
DCREATED:20250210T084022Z
UID:ATEvent-9e5dfe25f76a463fa1c3c61bbb16a040
SEQUENCE:0
LAST-MODIFIED:20250210T084048Z
SUMMARY:Tiempo de renovación espiritual para los padres en las comunidades Fe y Luz de Croacia
LOCATION:Casa «Tabor» en Samobor\, cerca de Zagreb
PRIORITY:3
TRANSP:0
END:VEVENT
END:VCALENDAR
