BEGIN:VCALENDAR
PRODID:-//AT Content Types//AT Event//EN
VERSION:2.0
METHOD:PUBLISH
BEGIN:VEVENT
DTSTAMP:20260421T151935Z
CREATED:20230904T104914Z
UID:ATEvent-c560dc9234e64152a0206bb53e15fdff
LAST-MODIFIED:20231018T084745Z
SUMMARY:Together\, vigilia ecuménica de oración en Roma
DTSTART:20230929T220000Z
DTEND:20230929T220000Z
DESCRIPTION:Participarán miembros de Fe y Luz de Italia\, Croacia y E
 slovenia\, así como Raúl\, coordinador internacional de Fe y Luz.
LOCATION:Rome\, Italia
URL:https://together2023.net/es/info-page/que-es-together/
CLASS:PUBLIC
END:VEVENT
END:VCALENDAR
