BEGIN:VCALENDAR
PRODID:-//AT Content Types//AT Event//EN
VERSION:1.0
BEGIN:VEVENT
DTSTART:20240809T220000Z
DTEND:20240809T220000Z
DCREATED:20240510T151533Z
UID:ATEvent-e7d5c6212ee04c8e9af704142604d820
SEQUENCE:0
LAST-MODIFIED:20240529T091023Z
SUMMARY:Una jornada nacional de música 2024 - Países Bajos
DESCRIPTION:Una jornada nacional de música reúne a músicos y cantan
 tes de Fe y Luz en un día inolvidable
LOCATION:Helvoirt\, Países Bajos
PRIORITY:3
TRANSP:0
END:VEVENT
END:VCALENDAR
