BEGIN:VCALENDAR
PRODID:-//AT Content Types//AT Event//EN
VERSION:2.0
METHOD:PUBLISH
BEGIN:VEVENT
DTSTAMP:20260421T175440Z
CREATED:20251125T150750Z
UID:ATEvent-b20a3937482b4b84b8f906e7a9e25d4d
LAST-MODIFIED:20260211T153534Z
SUMMARY:Vía Crucis. El santuario de la Santa Cruz en Cracovia (en Mogiła).
DTSTART:20260320T230000Z
DTEND:20260320T230000Z
DESCRIPTION:Para las provincias del sur de Polonia
LOCATION:Abadía cisterciense\, calle Klasztorna\, 11\, 31-979 Cracovia.
CLASS:PUBLIC
END:VEVENT
END:VCALENDAR
