BEGIN:VCALENDAR
PRODID:-//AT Content Types//AT Event//EN
VERSION:2.0
METHOD:PUBLISH
BEGIN:VEVENT
DTSTAMP:20260421T175320Z
CREATED:20250227T115331Z
UID:ATEvent-013df80da47549bb8f6113b3636a59a0
LAST-MODIFIED:20250227T115337Z
SUMMARY:VÍA CRUCIS\, provincia Jesus Lus de los Andes
DTSTART:20250321T170000Z
DTEND:20250321T190000Z
DESCRIPTION:Cada comunidad de la provincia prepara una estación y nos
  reunimos utilizando la plataforma Zoom para vivir juntos el Via Cruci
 s de Fe y Luz Camino de la Fe\, camino de la Luz
LOCATION:Zoom (6pm for Peru\, Ecuador and Colombia)\, 8pm for Chile
CLASS:PUBLIC
END:VEVENT
END:VCALENDAR
