BEGIN:VCALENDAR
PRODID:-//AT Content Types//AT Event//EN
VERSION:2.0
METHOD:PUBLISH
BEGIN:VEVENT
DTSTAMP:20260421T153303Z
CREATED:20220622T131953Z
UID:ATEvent-1e183893abdc4eb89fd927648bea513a
LAST-MODIFIED:20220622T132002Z
SUMMARY:Viaje en autobús por Estonia
DTSTART:20220825T220000Z
DTEND:20220826T220000Z
LOCATION:Saaremaa\, Estonia
CLASS:PUBLIC
END:VEVENT
END:VCALENDAR
