BEGIN:VCALENDAR
PRODID:-//AT Content Types//AT Event//EN
VERSION:1.0
BEGIN:VEVENT
DTSTART:20250322T083000Z
DTEND:20250323T170000Z
DCREATED:20250210T085112Z
UID:ATEvent-cc3f03c28f9b4b5f8cc6107a53d848e1
SEQUENCE:0
LAST-MODIFIED:20250210T085119Z
SUMMARY:VIVA! Foro Vida\, Familia\, Fragilidades
DESCRIPTION:Encuentre más de 50 asociaciones (incluida Fe y Luz el 23
  de marzo)\, comprometidas con la persona humana y al servicio del bie
 n común\, que se reúnen para crear una red de ayuda única y ofrecer
  su experiencia sobre el terreno.
LOCATION:Francia\, Parc floral de Paris – porte de Vincennes
PRIORITY:3
TRANSP:0
END:VEVENT
END:VCALENDAR
