BEGIN:VCALENDAR
PRODID:-//AT Content Types//AT Event//EN
VERSION:1.0
BEGIN:VEVENT
DTSTART:20230703T220000Z
DTEND:20230711T220000Z
DCREATED:20221018T091835Z
UID:ATEvent-af1b6552ab19493abc6e875d37846783
SEQUENCE:0
LAST-MODIFIED:20221018T091859Z
SUMMARY:Assemblée générale et rencontre internationale de Foi et Lumière
LOCATION:Centre culturel Saint Thomas\, Strasbourg
PRIORITY:3
TRANSP:0
END:VEVENT
END:VCALENDAR
