BEGIN:VCALENDAR
PRODID:-//AT Content Types//AT Event//EN
VERSION:1.0
BEGIN:VEVENT
DTSTART:20250502T220000Z
DTEND:20250503T220000Z
DCREATED:20250210T120014Z
UID:ATEvent-2d88a202a1474bfe99ab6c08b8515f54
SEQUENCE:0
LAST-MODIFIED:20250210T120027Z
SUMMARY:Assemblée provinciale France Entre 2 Mers
DESCRIPTION:et élection du nouveau coordinateur de province
LOCATION:Centre Louis Ormières\, Montauban
PRIORITY:3
TRANSP:0
END:VEVENT
END:VCALENDAR
