BEGIN:VCALENDAR
PRODID:-//AT Content Types//AT Event//EN
VERSION:1.0
BEGIN:VEVENT
DTSTART:20260124T230000Z
DTEND:20260124T230000Z
DCREATED:20251106T111653Z
UID:ATEvent-cdc39b3e110a47ad86573cafdfc2f666
SEQUENCE:0
LAST-MODIFIED:20251117T104112Z
SUMMARY:Bal Foi et Lumière à Brno
DESCRIPTION:Pour les communautés tchèques
LOCATION:Brno\, République Tchèque
PRIORITY:3
TRANSP:0
END:VEVENT
END:VCALENDAR
