BEGIN:VCALENDAR
PRODID:-//AT Content Types//AT Event//EN
VERSION:2.0
METHOD:PUBLISH
BEGIN:VEVENT
DTSTAMP:20260423T115521Z
CREATED:20220421T100450Z
UID:ATEvent-5d8a7558cb524ae38311f1ecc0a59585
LAST-MODIFIED:20220421T100451Z
SUMMARY:Camp de vacances communautés de Slovénie
DTSTART:20220825T220000Z
DTEND:20220831T220000Z
LOCATION:Portorož\, Slovénie
CLASS:PUBLIC
END:VEVENT
END:VCALENDAR
