BEGIN:VCALENDAR
PRODID:-//AT Content Types//AT Event//EN
VERSION:2.0
METHOD:PUBLISH
BEGIN:VEVENT
DTSTAMP:20260421T120104Z
CREATED:20220421T101556Z
UID:ATEvent-7bedd32cdc624ae698d0b9916490bc25
LAST-MODIFIED:20220421T101557Z
SUMMARY:Session de formation Slovénie
DTSTART:20220922T220000Z
DTEND:20220924T220000Z
LOCATION:Stična\, Slovénie
CLASS:PUBLIC
END:VEVENT
END:VCALENDAR
