BEGIN:VCALENDAR
PRODID:-//AT Content Types//AT Event//EN
VERSION:1.0
BEGIN:VEVENT
DTSTART:20230828T220000Z
DTEND:20230902T220000Z
DCREATED:20230904T122058Z
UID:ATEvent-e66828d3710444da82afa8e918b0c917
SEQUENCE:0
LAST-MODIFIED:20230904T122102Z
SUMMARY:Camp de vacances en Croatie
LOCATION:St. Carmel Elijah \, Buško jezero (BiH)
PRIORITY:3
TRANSP:0
END:VEVENT
END:VCALENDAR
