BEGIN:VCALENDAR
PRODID:-//AT Content Types//AT Event//EN
VERSION:1.0
BEGIN:VEVENT
DTSTART:20231112T230000Z
DTEND:20231119T230000Z
DCREATED:20230215T093703Z
UID:ATEvent-6bb422d45b304d859686ebc98152b065
SEQUENCE:0
LAST-MODIFIED:20230307T150017Z
SUMMARY:Vacances pour les communautés du Mexique
DESCRIPTION:Province Notre Dame de Guadalupe
LOCATION:Cancún
PRIORITY:3
TRANSP:0
END:VEVENT
END:VCALENDAR
