BEGIN:VCALENDAR
PRODID:-//AT Content Types//AT Event//EN
VERSION:1.0
BEGIN:VEVENT
DTSTART:20241214T230000Z
DTEND:20241214T230000Z
DCREATED:20241002T165207Z
UID:ATEvent-d0e06e1a7ca349149341bc86b3df09d8
SEQUENCE:0
LAST-MODIFIED:20241127T062454Z
SUMMARY:Célébration de Noël avec les communautés de Florence
LOCATION:Florence\, Italie
PRIORITY:3
TRANSP:0
END:VEVENT
END:VCALENDAR
