BEGIN:VCALENDAR
PRODID:-//AT Content Types//AT Event//EN
VERSION:1.0
BEGIN:VEVENT
DTSTART:20230302T230000Z
DTEND:20230302T230000Z
DCREATED:20230209T122445Z
UID:ATEvent-14a30c5a68274ca19d6623c12a807848
SEQUENCE:0
LAST-MODIFIED:20230209T122448Z
SUMMARY:Conseil provincial Aurores Boréales
LOCATION:Zoom
PRIORITY:3
TRANSP:0
END:VEVENT
END:VCALENDAR
