BEGIN:VCALENDAR
PRODID:-//AT Content Types//AT Event//EN
VERSION:2.0
METHOD:PUBLISH
BEGIN:VEVENT
DTSTAMP:20260423T115249Z
CREATED:20221122T115622Z
UID:ATEvent-e40fa44fc0164c6bb2f90670ba3eb54d
LAST-MODIFIED:20221122T121545Z
SUMMARY:Rencontre du conseil de la province Liban  Sud - Jordanie
DTSTART:20230616T220000Z
DTEND:20230616T220000Z
LOCATION:Fanar - Metn\, Liban
CLASS:PUBLIC
END:VEVENT
END:VCALENDAR
