BEGIN:VCALENDAR
PRODID:-//AT Content Types//AT Event//EN
VERSION:1.0
BEGIN:VEVENT
DTSTART:20251129T130000Z
DTEND:20251129T170000Z
DCREATED:20251104T083414Z
UID:ATEvent-1f0e5c1a4ce943149d4bae6b08825de9
SEQUENCE:0
LAST-MODIFIED:20251117T111917Z
SUMMARY:Fête des personnes handicapées
DESCRIPTION:A l’occasion des 20 ans de la loi handicap \, la Fondati
 on OCH s’associe à un évènement organisé par le Diocèse de Pari
 s en invitant les personnes handicapées qui le souhaitent à fêter c
 et anniversaire sur un bateau mouche et à Notre Dame !
LOCATION:Paris
PRIORITY:3
TRANSP:0
END:VEVENT
END:VCALENDAR
