BEGIN:VCALENDAR
PRODID:-//AT Content Types//AT Event//EN
VERSION:1.0
BEGIN:VEVENT
DTSTART:20251116T153000Z
DTEND:20251116T183000Z
DCREATED:20250210T113929Z
UID:ATEvent-d0f6dee0790a4473a459cdd2d62ea714
SEQUENCE:0
LAST-MODIFIED:20250227T150330Z
SUMMARY:Formation des aumôniers de France
LOCATION:Visioconférence
PRIORITY:3
TRANSP:0
END:VEVENT
END:VCALENDAR
