BEGIN:VCALENDAR
PRODID:-//AT Content Types//AT Event//EN
VERSION:1.0
BEGIN:VEVENT
DTSTART:20250620T090000Z
DTEND:20250620T123000Z
DCREATED:20250522T145520Z
UID:ATEvent-256ac902166042db9e7c12bc8380c4c5
SEQUENCE:0
LAST-MODIFIED:20250522T145525Z
SUMMARY:Journée de démarche jubilaire pour les communautés de Paris et le Levant
LOCATION:Notre Dame de Paris
PRIORITY:3
TRANSP:0
END:VEVENT
END:VCALENDAR
