BEGIN:VCALENDAR
PRODID:-//AT Content Types//AT Event//EN
VERSION:1.0
BEGIN:VEVENT
DTSTART:20231202T230000Z
DTEND:20231202T230000Z
DCREATED:20231010T095942Z
UID:ATEvent-f53ff2588098408cb14d403b4ca2d63c
SEQUENCE:0
LAST-MODIFIED:20231010T100102Z
SUMMARY:Journée internationale des personnes handicapées
DESCRIPTION:L’occasion de sensibiliser les communautés paroissiales
  à mieux accueillir nos frères et sœurs de manière inclusive. En p
 artenariat avec la Pastorale Catéchétique Spécialisée de la CEF\, 
 aidée de la Fondation OCH.
LOCATION:Partout en France
PRIORITY:3
TRANSP:0
END:VEVENT
END:VCALENDAR
