BEGIN:VCALENDAR
PRODID:-//AT Content Types//AT Event//EN
VERSION:2.0
METHOD:PUBLISH
BEGIN:VEVENT
DTSTAMP:20260421T102838Z
CREATED:20230209T085558Z
UID:ATEvent-4b067363202e4c33a779aecc7d5ae0c0
LAST-MODIFIED:20230209T085601Z
SUMMARY:Journée Nationale pour les communautés du Luxembourg
DTSTART:20230701T220000Z
DTEND:20230701T220000Z
LOCATION:Lieu à confirmer
CLASS:PUBLIC
END:VEVENT
END:VCALENDAR
