BEGIN:VCALENDAR
PRODID:-//AT Content Types//AT Event//EN
VERSION:2.0
METHOD:PUBLISH
BEGIN:VEVENT
DTSTAMP:20260421T153619Z
CREATED:20221122T111953Z
UID:ATEvent-d73f149b56b24093b80ae848a0de7967
LAST-MODIFIED:20221122T115558Z
SUMMARY:Marathon à Beyrouth !
DTSTART:20230429T220000Z
DTEND:20230429T220000Z
DESCRIPTION:Action menée par la province Liban Sud Jordanie.
LOCATION:Beyrouth\, Liban
CLASS:PUBLIC
END:VEVENT
END:VCALENDAR
