BEGIN:VCALENDAR
PRODID:-//AT Content Types//AT Event//EN
VERSION:2.0
METHOD:PUBLISH
BEGIN:VEVENT
DTSTAMP:20260421T115700Z
CREATED:20230314T110335Z
UID:ATEvent-4810805c72cc4cf28a24034581286de9
LAST-MODIFIED:20230314T110620Z
SUMMARY:Marche de saint Joseph
DTSTART:20230318T133000Z
DTEND:20230318T213000Z
DESCRIPTION:13ème édition d'un pèlerinage d'une journée s'adressan
 t à tous les hommes d'Ile de France. 1500 pèlerins venant de plus de
  cent paroisses convergeront vers la basilique de Montmartre. Cette an
 née\, une attention particulière sera portée aux pèlerins en situa
 tion de handicap et de fragilité.
LOCATION:Montmartre
CONTACT:06 07 89 12 80
URL:https://www.marche-de-st-joseph.fr/home
CLASS:PUBLIC
END:VEVENT
END:VCALENDAR
