BEGIN:VCALENDAR
PRODID:-//AT Content Types//AT Event//EN
VERSION:2.0
METHOD:PUBLISH
BEGIN:VEVENT
DTSTAMP:20260423T115222Z
CREATED:20251125T144513Z
UID:ATEvent-98a221b62bc6445d989fd42be545bdfc
LAST-MODIFIED:20251125T162108Z
SUMMARY:Messe des communautés Foi et Lumière\, Pologne
DTSTART:20260124T230000Z
DTEND:20260124T230000Z
DESCRIPTION:Pour la province Pologne Sud\n15h
LOCATION:Basilique franciscaine Saint-François d'Assise (salle italienne)\, 5 place Tous-les-Saints\, 31-004 Cracovie
CLASS:PUBLIC
END:VEVENT
END:VCALENDAR
