BEGIN:VCALENDAR
PRODID:-//AT Content Types//AT Event//EN
VERSION:1.0
BEGIN:VEVENT
DTSTART:20251030T230000Z
DTEND:20251101T230000Z
DCREATED:20250210T150628Z
UID:ATEvent-fcdc1502b00a4189930f04f91176cd81
SEQUENCE:0
LAST-MODIFIED:20250210T150659Z
SUMMARY:Pèlerinage de la province France Entre 2 Mers à Lourdes
LOCATION:Lourdes
PRIORITY:3
TRANSP:0
END:VEVENT
END:VCALENDAR
