BEGIN:VCALENDAR
PRODID:-//AT Content Types//AT Event//EN
VERSION:2.0
METHOD:PUBLISH
BEGIN:VEVENT
DTSTAMP:20260421T090226Z
CREATED:20230111T092301Z
UID:ATEvent-eee233ff1c0b4dae9d1f6b65f5d3936d
LAST-MODIFIED:20230111T092302Z
SUMMARY:Pèlerinage de la province Sainte Marie de Guadalupe
DTSTART:20230202T230000Z
DTEND:20230204T230000Z
DESCRIPTION:à l'occasion des 35 ans de Foi et Lumière au Mexique
LOCATION:Mexico
CLASS:PUBLIC
END:VEVENT
END:VCALENDAR
