BEGIN:VCALENDAR
PRODID:-//AT Content Types//AT Event//EN
VERSION:1.0
BEGIN:VEVENT
DTSTART:20220910T220000Z
DTEND:20220910T220000Z
DCREATED:20220622T081637Z
UID:ATEvent-e1850a29d07b40f6a2b2149c1376f573
SEQUENCE:0
LAST-MODIFIED:20220915T110116Z
SUMMARY:Pèlerinage province Irlande
LOCATION:Lough Derg\, Irlande
PRIORITY:3
TRANSP:0
END:VEVENT
END:VCALENDAR
