BEGIN:VCALENDAR
PRODID:-//AT Content Types//AT Event//EN
VERSION:2.0
METHOD:PUBLISH
BEGIN:VEVENT
DTSTAMP:20260419T140807Z
CREATED:20240925T055736Z
UID:ATEvent-e86fc00c01de4422a9b87a9b74f7af38
LAST-MODIFIED:20241115T162152Z
SUMMARY:Première retraite internationale 🇫🇷 francophone 🌐 en ligne \, Centre Spirituel la Ferme
DTSTART:20241020T220000Z
DTEND:20241025T220000Z
DESCRIPTION:Thème :   « Habiter le temps\, un chemin de vie »
LOCATION:En ligne
URL:https://www.lafermedelarche.org/sessions/habiter/?fbclid=IwY2xjawFghYRleHRuA2FlbQIxMAABHS17ipkx7wetugK6RcB1-_NAG_gfjS5QbL2RvKKl0xlQfYK-iAPbhmRa2g_aem_sGBnKzsAXrne7y9eOiVtjQ
CLASS:PUBLIC
END:VEVENT
END:VCALENDAR
